BEGIN:VCALENDAR
VERSION:2.0
PRODID:-//wp-events-plugin.com//7.2.3.1//EN
TZID:Europe/Prague
X-WR-TIMEZONE:Europe/Prague
BEGIN:VEVENT
UID:1005@sberatelskakarta.cz
DTSTART;TZID=Europe/Prague:20241228T130000
DTEND;TZID=Europe/Prague:20250107T170000
DTSTAMP:20241221T210358Z
URL:https://www.sberatelskakarta.cz/udalosti/vanoce-u-betlemu-2024-12-28/
SUMMARY:VÁNOCE U BETLÉMŮ -  - 28 Pro 24 13:00
DESCRIPTION:Muzeum Radeč\nsi Vás dovoluje pozvat na\nVÁNOCE U BETLÉMŮ\
 n\nbetlémy papírové i vytlačovaný\, velký prastarý (1889) z dřeva 
 lipového\, expozice muzejní do Vánoc oděných\n\nOtevřeno 21. až 30.
  prosince 2024 (mimo 24. a 25.12.)\nv čase od 13.00 do 17:00 hodin (možn
 o i jindy po domluvě😊)\n\n26. 12. od 15.hod.– jazzovo-soulový konce
 rt – zpěv Julie Melicharová – kytara Petr Ittner\n\nSvětélková ce
 sta s vůní jehličí do nitra muzea\, pro odvážné i zážitková stez
 ka podzemím\, voňavé posezení mezi betlémy s hudbou u čaje\, kávy\,
  čokolády\, punče\, svařáku a piva točeného. Také palačinky\, pá
 rky v rohlíku a jiné dobroty.\n\nProdej dárků nejrůznějších.\n\nP
 řijďte pobejt!\n\nwww.muzeum-radec.cz Tel: 776 780 414
ATTACH;FMTTYPE=image/jpeg:https://www.sberatelskakarta.cz/wp-content/uploa
 ds/2024/12/vanocni_vystava_2024_radec.gif
END:VEVENT
BEGIN:VTIMEZONE
TZID:Europe/Prague
X-LIC-LOCATION:Europe/Prague
BEGIN:STANDARD
DTSTART:20241027T020000
TZOFFSETFROM:+0200
TZOFFSETTO:+0100
TZNAME:CET
END:STANDARD
END:VTIMEZONE
END:VCALENDAR